
BEGIN:VCALENDAR
VERSION:2.0
PRODID:-//Medienzentrum Heidelberg - ECPv6.15.20//NONSGML v1.0//EN
CALSCALE:GREGORIAN
METHOD:PUBLISH
X-ORIGINAL-URL:https://www.mzhd.de
X-WR-CALDESC:Veranstaltungen für Medienzentrum Heidelberg
REFRESH-INTERVAL;VALUE=DURATION:PT1H
X-Robots-Tag:noindex
X-PUBLISHED-TTL:PT1H
BEGIN:VTIMEZONE
TZID:Europe/Berlin
BEGIN:DAYLIGHT
TZOFFSETFROM:+0100
TZOFFSETTO:+0200
TZNAME:CEST
DTSTART:20240331T010000
END:DAYLIGHT
BEGIN:STANDARD
TZOFFSETFROM:+0200
TZOFFSETTO:+0100
TZNAME:CET
DTSTART:20241027T010000
END:STANDARD
BEGIN:DAYLIGHT
TZOFFSETFROM:+0100
TZOFFSETTO:+0200
TZNAME:CEST
DTSTART:20250330T010000
END:DAYLIGHT
BEGIN:STANDARD
TZOFFSETFROM:+0200
TZOFFSETTO:+0100
TZNAME:CET
DTSTART:20251026T010000
END:STANDARD
BEGIN:DAYLIGHT
TZOFFSETFROM:+0100
TZOFFSETTO:+0200
TZNAME:CEST
DTSTART:20260329T010000
END:DAYLIGHT
BEGIN:STANDARD
TZOFFSETFROM:+0200
TZOFFSETTO:+0100
TZNAME:CET
DTSTART:20261025T010000
END:STANDARD
END:VTIMEZONE
BEGIN:VEVENT
DTSTART;TZID=Europe/Berlin:20250408T143000
DTEND;TZID=Europe/Berlin:20250408T170000
DTSTAMP:20260422T074448
CREATED:20240910T091503Z
LAST-MODIFIED:20250214T133246Z
UID:8610-1744122600-1744131600@www.mzhd.de
SUMMARY:Netzwerktreffen „Robotik in der Grundschule“
DESCRIPTION:Im Rahmen des Innovationsprogramms „Robotik in der Grundschule“ laden wir Sie herzlich zu unseren Netzwerktreffen ein. Diese Treffen richten sich an Grundschulen\, die mit LEGO® Education Spike™ Essential-Kisten ausgestattet wurden oder bereits über diese verfügen\, sowie an alle Interessierten am Thema Robotik und Programmieren.\nZiel der Treffen ist es\, sich auszutauschen\, Ideen zu entwickeln und sich mit anderen Projektschulen zu vernetzen. Gemeinsam wollen wir Praxiserfahrungen teilen und neue Ansätze\, Methoden und Ideen für den Unterricht mit den Robotik-Sets entwickeln. Die Teilnahme an diesen Treffen unterstützt Sie zudem bei der Erfüllung des Kooperationsvertrages.\nJedes Treffen widmet sich einem bestimmten Themenschwerpunkt\, bietet jedoch auch ausreichend Raum für individuellen Austausch. Es ist uns wichtig\, auf die Interessen\, Bedürfnisse und Themen der teilnehmenden Schulen einzugehen. \nMögliche Themenschwerpunkte:\n– Erste Schritte im Unterricht: Einstiegsmöglichkeiten & Einsatzszenarien\n– Organisation und Aufbewahrung des LEGO-Materials (Tipps & Tricks)\n– Einsatz im fächerübergreifenden Unterricht\n– Einsatz im Fachunterricht (Deutsch\, Mathematik\, Sachunterricht)\n– Stolperstellen und Lösungsmöglichkeiten\n– Freies Bauen und Programmieren ohne Anleitung\n– Austausch\, Reflexion und Präsentation der LEGO-Objekte \nOrganisatorisches & Termine:\n28.01.2025\n08.04.2025\n03.06.2025\nBitte beachten Sie für diese Veranstaltung den unten dargestellten Veranstaltungsort. \nBei weiteren Fragen oder Anliegen stehen wir Ihnen jederzeit gerne zur Verfügung.\nWir freuen uns auf Ihre Teilnahme und einen spannenden\, inspirierenden Austausch. \nReferentin: Eva-Maria Dierig \n\n\n\n  \n\n\n\nAnmeldung zur Fortbildung\n\n\n \nIhr Nachname (Pflichtfeld)\n \n\n \nIhr Vorname (Pflichtfeld)\n \n\n \nIhre Schule (Pflichtfeld)\n \n\n \nIhr Schulort (Pflichtfeld)\n \n\n \nIhre E-Mail-Adresse (Pflichtfeld)\n \n\n \nIch wünsche aktuelle Infos mit dem Newsletter.\n \nIch habe die Datenschutzerklärung zur Kenntnis genommen. Ich stimme zu\, dass meine Angaben zur Kontaktaufnahme und für Rückfragen dauerhaft gespeichert werden.\nSie haben jederzeit das Recht Ihre Einwilligung zu widerrufen.
URL:https://www.mzhd.de/event/08-04-2025/
LOCATION:Theodor-Heuss-Grundschule Sandhausen\, Hauptstraße 111\, Sandhausen\, 69207
CATEGORIES:Fortbildung
END:VEVENT
END:VCALENDAR