
BEGIN:VCALENDAR
VERSION:2.0
PRODID:-//Medienzentrum Heidelberg - ECPv6.15.20//NONSGML v1.0//EN
CALSCALE:GREGORIAN
METHOD:PUBLISH
X-WR-CALNAME:Medienzentrum Heidelberg
X-ORIGINAL-URL:https://www.mzhd.de
X-WR-CALDESC:Veranstaltungen für Medienzentrum Heidelberg
REFRESH-INTERVAL;VALUE=DURATION:PT1H
X-Robots-Tag:noindex
X-PUBLISHED-TTL:PT1H
BEGIN:VTIMEZONE
TZID:Europe/Berlin
BEGIN:DAYLIGHT
TZOFFSETFROM:+0100
TZOFFSETTO:+0200
TZNAME:CEST
DTSTART:20250330T010000
END:DAYLIGHT
BEGIN:STANDARD
TZOFFSETFROM:+0200
TZOFFSETTO:+0100
TZNAME:CET
DTSTART:20251026T010000
END:STANDARD
BEGIN:DAYLIGHT
TZOFFSETFROM:+0100
TZOFFSETTO:+0200
TZNAME:CEST
DTSTART:20260329T010000
END:DAYLIGHT
BEGIN:STANDARD
TZOFFSETFROM:+0200
TZOFFSETTO:+0100
TZNAME:CET
DTSTART:20261025T010000
END:STANDARD
BEGIN:DAYLIGHT
TZOFFSETFROM:+0100
TZOFFSETTO:+0200
TZNAME:CEST
DTSTART:20270328T010000
END:DAYLIGHT
BEGIN:STANDARD
TZOFFSETFROM:+0200
TZOFFSETTO:+0100
TZNAME:CET
DTSTART:20271031T010000
END:STANDARD
END:VTIMEZONE
BEGIN:VEVENT
DTSTART;TZID=Europe/Berlin:20260210T143000
DTEND;TZID=Europe/Berlin:20260210T170000
DTSTAMP:20260423T165643
CREATED:20251009T172035Z
LAST-MODIFIED:20251009T172600Z
UID:9274-1770733800-1770742800@www.mzhd.de
SUMMARY:Netzwerktreffen „Robotik in der Grundschule“
DESCRIPTION:Im Rahmen des Innovationsprogramms „Robotik in der Grundschule“ laden wir Sie herzlich zu unseren Netzwerktreffen ein. Diese Treffen richten sich an Grundschulen\, die mit LEGO® Education Spike™ Essential-Kisten ausgestattet wurden oder bereits über diese verfügen\, sowie an alle Interessierten am Thema Robotik und Programmieren.\nZiel der Treffen ist es\, sich auszutauschen\, Ideen zu entwickeln und sich mit anderen Projektschulen zu vernetzen. Gemeinsam wollen wir Praxiserfahrungen teilen und neue Ansätze\, Methoden und Ideen für den Unterricht mit den Robotik-Sets entwickeln. Die Teilnahme an diesen Treffen unterstützt Sie zudem bei der Erfüllung des Kooperationsvertrages.\nJedes Treffen widmet sich einem bestimmten Themenschwerpunkt\, bietet jedoch auch ausreichend Raum für individuellen Austausch. Es ist uns wichtig\, auf die Interessen\, Bedürfnisse und Themen der teilnehmenden Schulen einzugehen. \nMögliche Themenschwerpunkte:\n– Erste Schritte im Unterricht: Einstiegsmöglichkeiten & Einsatzszenarien\n– Organisation und Aufbewahrung des LEGO-Materials (Tipps & Tricks)\n– Einsatz im fächerübergreifenden Unterricht\n– Einsatz im Fachunterricht (Deutsch\, Mathematik\, Sachunterricht)\n– Stolperstellen und Lösungsmöglichkeiten\n– Freies Bauen und Programmieren ohne Anleitung\n– Austausch\, Reflexion und Präsentation der LEGO-Objekte \nEs ist geplant\, die Veranstaltung im Wechsel an verschiedenen Schulen durchzuführen\, um Einblicke in die jeweilige Umsetzung vor Ort zu ermöglichen.\nBei weiteren Fragen oder Anliegen stehen wir Ihnen jederzeit gerne zur Verfügung.\nWir freuen uns auf Ihre Teilnahme und einen spannenden\, inspirierenden Austausch. \nReferentin: Eva-Maria Dierig \n\n\n\n  \n\n\n\nAnmeldung zur Fortbildung\n\n\n \nIhr Nachname (Pflichtfeld)\n \n\n \nIhr Vorname (Pflichtfeld)\n \n\n \nIhre Schule (Pflichtfeld)\n \n\n \nIhr Schulort (Pflichtfeld)\n \n\n \nIhre E-Mail-Adresse (Pflichtfeld)\n \n\n \nIch wünsche aktuelle Infos mit dem Newsletter.\n \nIch habe die Datenschutzerklärung zur Kenntnis genommen. Ich stimme zu\, dass meine Angaben zur Kontaktaufnahme und für Rückfragen dauerhaft gespeichert werden.\nSie haben jederzeit das Recht Ihre Einwilligung zu widerrufen.
URL:https://www.mzhd.de/event/10-02-2026/
LOCATION:Landhausschule Heidelberg\, Landhausstraße 20\, Heidelberg\, 69115
CATEGORIES:Fortbildung
END:VEVENT
BEGIN:VEVENT
DTSTART;TZID=Europe/Berlin:20260212T143000
DTEND;TZID=Europe/Berlin:20260212T170000
DTSTAMP:20260423T165643
CREATED:20250714T175627Z
LAST-MODIFIED:20250730T093822Z
UID:9104-1770906600-1770915600@www.mzhd.de
SUMMARY:Papierlos\, Präzise\, Praktisch: GoodNotes für Pädagogen
DESCRIPTION:GoodNotes ist eine Notizapp. Die App wurde entwickelt\, um handschriftliche Notizen zu machen und PDF-Dokumente auf iOS-Geräten mit Anmerkungen zu versehen. \nDiese Fortbildung bietet Ihnen die Möglichkeit\, die leistungsstarke Notiz-App “GoodNotes” kennenzulernen.\n“GoodNotes” ist weithin bekannt als eine der besten Notiz-Apps auf dem Markt und hat sich als unverzichtbares Werkzeug für Lehrer und Bildungseinrichtungen etabliert. Diese App ermöglicht es Ihnen\, handschriftliche Notizen auf Ihrem iPad oder iPhone zu erstellen und PDF-Dokumente mit Anmerkungen zu versehen. Egal\, ob Sie Ihre Vorlesungen\, Schulungen oder Unterrichtsstunden aufzeichnen oder einfach nur Ihre pädagogischen Materialien digital organisieren möchten – “GoodNotes” bietet Ihnen die Werkzeuge\, die Sie benötigen. \n\nNotizen erstellen: Erfahren Sie\, wie Sie handgeschriebene Notizen in “GoodNotes” erstellen können\, um Ihre Gedanken und Ideen festzuhalten.\nPDF-Anmerkungen: Entdecken Sie\, wie Sie PDF-Dokumente importieren und mit Anmerkungen\, Markierungen und Kommentaren versehen können\, um den Unterricht interaktiver zu gestalten.\nKollaboration: Erfahren Sie\, wie Sie “GoodNotes” nutzen können\, um die Zusammenarbeit zwischen Lehrern und Schülern zu verbessern\, indem Sie Notizen und Feedback teilen.\n\nDiese Fortbildung richtet sich an Lehrerinnen und Lehrer aller Fächer und Schulstufen. Ob Sie bereits Erfahrung mit digitalen Notiz-Apps haben oder ganz am Anfang stehen. \nReferent: Peter Durst \n\n\n\n  \n\n\n\nAnmeldung zur Fortbildung\n\n\n \nIhr Nachname (Pflichtfeld)\n \n\n \nIhr Vorname (Pflichtfeld)\n \n\n \nIhre Schule (Pflichtfeld)\n \n\n \nIhr Schulort (Pflichtfeld)\n \n\n \nIhre E-Mail-Adresse (Pflichtfeld)\n \n\n \nIch wünsche aktuelle Infos mit dem Newsletter.\n \nIch habe die Datenschutzerklärung zur Kenntnis genommen. Ich stimme zu\, dass meine Angaben zur Kontaktaufnahme und für Rückfragen dauerhaft gespeichert werden.\nSie haben jederzeit das Recht Ihre Einwilligung zu widerrufen.
URL:https://www.mzhd.de/event/12-02-2026/
LOCATION:Medienzentrum Heidelberg\, Kurfürstenanlage 38-40\, Heidelberg\, 69115
CATEGORIES:Fortbildung
END:VEVENT
END:VCALENDAR