
BEGIN:VCALENDAR
VERSION:2.0
PRODID:-//Medienzentrum Heidelberg - ECPv6.15.20//NONSGML v1.0//EN
CALSCALE:GREGORIAN
METHOD:PUBLISH
X-ORIGINAL-URL:https://www.mzhd.de
X-WR-CALDESC:Veranstaltungen für Medienzentrum Heidelberg
REFRESH-INTERVAL;VALUE=DURATION:PT1H
X-Robots-Tag:noindex
X-PUBLISHED-TTL:PT1H
BEGIN:VTIMEZONE
TZID:Europe/Berlin
BEGIN:DAYLIGHT
TZOFFSETFROM:+0100
TZOFFSETTO:+0200
TZNAME:CEST
DTSTART:20250330T010000
END:DAYLIGHT
BEGIN:STANDARD
TZOFFSETFROM:+0200
TZOFFSETTO:+0100
TZNAME:CET
DTSTART:20251026T010000
END:STANDARD
BEGIN:DAYLIGHT
TZOFFSETFROM:+0100
TZOFFSETTO:+0200
TZNAME:CEST
DTSTART:20260329T010000
END:DAYLIGHT
BEGIN:STANDARD
TZOFFSETFROM:+0200
TZOFFSETTO:+0100
TZNAME:CET
DTSTART:20261025T010000
END:STANDARD
BEGIN:DAYLIGHT
TZOFFSETFROM:+0100
TZOFFSETTO:+0200
TZNAME:CEST
DTSTART:20270328T010000
END:DAYLIGHT
BEGIN:STANDARD
TZOFFSETFROM:+0200
TZOFFSETTO:+0100
TZNAME:CET
DTSTART:20271031T010000
END:STANDARD
END:VTIMEZONE
BEGIN:VEVENT
DTSTART;TZID=Europe/Berlin:20260611T143000
DTEND;TZID=Europe/Berlin:20260611T170000
DTSTAMP:20260423T165439
CREATED:20260113T073702Z
LAST-MODIFIED:20260113T074459Z
UID:9373-1781188200-1781197200@www.mzhd.de
SUMMARY:Berufswahl und Bewerbungstraining mit digitalen Medien
DESCRIPTION:In dieser praktisch ausgerichteten Fortbildung erfahren BO- und WBS-Lehrkräfte\, weitere interessierte Lehrkräfte und andere Akteure am Übergang Schule / Beruf\, wie digitale Medien zur Berufswahl und zum Bewerbungstraining eingesetzt werden können. \nDarüber\, wie man einen guten Lebenslauf schreibt\, können sich Lernende Dank vieler Unterrichtsmaterialien und KI umfassend informieren. Aber welche Berufe gibt es eigentlich und wie sehen die Chancen\, der Verdienst und die langfristigen Perspektiven aus? Und woher weiß man\, ob der Traumberuf das Richtige für einen ist? Wie kann man bei einem Bewerbungsgespräch einen guten Eindruck hinterlassen und was wird da erwartet? \nFür all diese Fragen gibt es tolle digitale Unterstützungssysteme für Lernende und für den Unterricht. Seien es Selbsteinschätzungstools\, virtuelle Rundgänge durch den ersten Arbeitstag oder Informationssammlungen über die Vielfalt der Berufswelt. Darüber hinaus kann man in digital unterstützten Simulationen und Feedback-Übungen lernen\, wie man sich in einem Bewerbungsgespräch angemessen verhält und wie man sich darauf vorbereiten kann. \nIm Workshop werden eine Auswahl solcher Unterstützungsangebote und Unterrichtskonzepte vorgestellt und die Teilnehmenden erfahren\, wie man lernendenzentriert Formen der Medienarbeit für die Berufswahl und das Bewerbungstraining im Unterricht einsetzen kann. \nReferenten: Isabelle Evers & Norman Hanisch \n\nAnmeldung\nBitte melden Sie sich über folgenden Link zur Veranstaltung an: https://swm-direkt.de/hdrn110626\nPasswort: hdrn (Die Teilnehmerzahl ist begrenzt.)\nAls Lehrkraft melden Sie sich bitte zusätzlich mit Ihren gültigen Zugangsdaten über LFB-Online an. Der Link zur dort hinterlegten Veranstaltung lautet https://lfbo.kultus-bw.de/lfb/termine/LXKLJJ
URL:https://www.mzhd.de/event/11-06-2026/
LOCATION:Medienzentrum Heidelberg\, Kurfürstenanlage 38-40\, Heidelberg\, 69115
CATEGORIES:Fortbildung
END:VEVENT
BEGIN:VEVENT
DTSTART;TZID=Europe/Berlin:20260623T143000
DTEND;TZID=Europe/Berlin:20260623T170000
DTSTAMP:20260423T165439
CREATED:20251208T073851Z
LAST-MODIFIED:20251208T074104Z
UID:9334-1782225000-1782234000@www.mzhd.de
SUMMARY:Kreative Projekte mit dem iPad für den Grundschulalltag
DESCRIPTION:Das iPad ist mittlerweile in vielen Grundschulen fester Bestandteil des Unterrichts. Mini-Projekte bieten eine hervorragende Möglichkeit\, kreative und praxisnahe Anwendungen des iPads in den Schulalltag einzubinden – sei es in Arbeitsgemeinschaften\, im regulären Unterricht oder im Ganztag. \nZiele der Fortbildung: \n\nPlanung und Umsetzung kleiner\, kreativer Projekte mit dem iPad\nKennenlernen von Mini-Projekten in den Bereichen Audio\, Foto und Video\nFörderung von Medienkompetenz durch einfach umsetzbare\, sichere Projektideen\n\nReferentin: Sanderin Thompson \n\n\n\n  \n\n\n\nAnmeldung zur Fortbildung\n\n\n \nIhr Nachname (Pflichtfeld)\n \n\n \nIhr Vorname (Pflichtfeld)\n \n\n \nIhre Schule (Pflichtfeld)\n \n\n \nIhr Schulort (Pflichtfeld)\n \n\n \nIhre E-Mail-Adresse (Pflichtfeld)\n \n\n \nIch wünsche aktuelle Infos mit dem Newsletter.\n \nIch habe die Datenschutzerklärung zur Kenntnis genommen. Ich stimme zu\, dass meine Angaben zur Kontaktaufnahme und für Rückfragen dauerhaft gespeichert werden.\nSie haben jederzeit das Recht Ihre Einwilligung zu widerrufen.
URL:https://www.mzhd.de/event/23-06-2026/
LOCATION:Medienzentrum Heidelberg\, Kurfürstenanlage 38-40\, Heidelberg\, 69115
CATEGORIES:Fortbildung
END:VEVENT
BEGIN:VEVENT
DTSTART;TZID=Europe/Berlin:20260629T143000
DTEND;TZID=Europe/Berlin:20260629T170000
DTSTAMP:20260423T165439
CREATED:20251216T122006Z
LAST-MODIFIED:20251216T122203Z
UID:9354-1782743400-1782752400@www.mzhd.de
SUMMARY:„Actionbound“ - Eine Einführung in die Nutzung und Erstellung multimedialer Erlebnistouren für den Unterricht
DESCRIPTION:Durchführung eines „Bounds“\, Erstellen eines Zugangskontos\, Erstellen und Verwalten eines eigenen „Bounds“ \nMit „Actionbound“ spielen und gestalten Sie spannende\, lustige und lehrreiche Rallyes für Mobilgeräte. Sie basteln ein eigenes Quiz\, eine interaktive Schnitzeljagd\, zur spielerischen Vermittlung von Lerninhalten. Motivieren Sie Ihre Schülerinnen und Schüler auf eine neue Art. In dieser Fortbildung gehen Sie selbst auf eine interaktive Schnitzeljagd und bekommen Hilfestellung beim Erstellen eines kostenlosen Zugangskontos. Zudem erhalten Sie Unterstützung bei der Erstellung\, Anwendung und Verwaltung Ihrer eigenen Erlebnistour („Bound“) für die Schule. \nZiele der Fortbildung: \n\nDurchführung einer interaktiven Schnitzeljagd („Bound“)\nErstellen eines eigenen (kostenlosen) „Actionbound“-Zugangskontos\nErlernen der Suchfunktion bereits vorhandener „Actionbounds“\nErstellen eines eigenen „Bounds“\n\nReferent: Sven Burger \n\n\n\n  \n\n\n\nAnmeldung zur Fortbildung\n\n\n \nIhr Nachname (Pflichtfeld)\n \n\n \nIhr Vorname (Pflichtfeld)\n \n\n \nIhre Schule (Pflichtfeld)\n \n\n \nIhr Schulort (Pflichtfeld)\n \n\n \nIhre E-Mail-Adresse (Pflichtfeld)\n \n\n \nIch wünsche aktuelle Infos mit dem Newsletter.\n \nIch habe die Datenschutzerklärung zur Kenntnis genommen. Ich stimme zu\, dass meine Angaben zur Kontaktaufnahme und für Rückfragen dauerhaft gespeichert werden.\nSie haben jederzeit das Recht Ihre Einwilligung zu widerrufen.
URL:https://www.mzhd.de/event/29-06-2026/
LOCATION:Medienzentrum Heidelberg\, Kurfürstenanlage 38-40\, Heidelberg\, 69115
CATEGORIES:Fortbildung
END:VEVENT
END:VCALENDAR