
BEGIN:VCALENDAR
VERSION:2.0
PRODID:-//Medienzentrum Heidelberg - ECPv6.15.20//NONSGML v1.0//EN
CALSCALE:GREGORIAN
METHOD:PUBLISH
X-ORIGINAL-URL:https://www.mzhd.de
X-WR-CALDESC:Veranstaltungen für Medienzentrum Heidelberg
REFRESH-INTERVAL;VALUE=DURATION:PT1H
X-Robots-Tag:noindex
X-PUBLISHED-TTL:PT1H
BEGIN:VTIMEZONE
TZID:Europe/Berlin
BEGIN:DAYLIGHT
TZOFFSETFROM:+0100
TZOFFSETTO:+0200
TZNAME:CEST
DTSTART:20250330T010000
END:DAYLIGHT
BEGIN:STANDARD
TZOFFSETFROM:+0200
TZOFFSETTO:+0100
TZNAME:CET
DTSTART:20251026T010000
END:STANDARD
BEGIN:DAYLIGHT
TZOFFSETFROM:+0100
TZOFFSETTO:+0200
TZNAME:CEST
DTSTART:20260329T010000
END:DAYLIGHT
BEGIN:STANDARD
TZOFFSETFROM:+0200
TZOFFSETTO:+0100
TZNAME:CET
DTSTART:20261025T010000
END:STANDARD
BEGIN:DAYLIGHT
TZOFFSETFROM:+0100
TZOFFSETTO:+0200
TZNAME:CEST
DTSTART:20270328T010000
END:DAYLIGHT
BEGIN:STANDARD
TZOFFSETFROM:+0200
TZOFFSETTO:+0100
TZNAME:CET
DTSTART:20271031T010000
END:STANDARD
END:VTIMEZONE
BEGIN:VEVENT
DTSTART;TZID=Europe/Berlin:20260512T143000
DTEND;TZID=Europe/Berlin:20260512T170000
DTSTAMP:20260421T111124
CREATED:20250714T180714Z
LAST-MODIFIED:20250714T180857Z
UID:9111-1778596200-1778605200@www.mzhd.de
SUMMARY:Tutory: Hochwertige Arbeitsblätter per Drag&Drop erstellen
DESCRIPTION:Was ist tutory?\nIn unserer Mediathek Edupool finden Sie die Möglichkeit tutory. Mit tutory erstellen Sie im Handumdrehen anschauliche Arbeitsblätter für Lernende. Dafür platzieren Sie vorgefertigte Bausteine (wie einfache Aufgabenstellungen\, Multiple-Choice-Fragen\, Kreuzworträtsel\, Zuordnungsaufgaben\, QR-Codes\, Evaluationstabellen und vieles mehr) per Drag&Drop auf dem Dokument und füllen diese mit eigenen Inhalten. Nutzen Sie außerdem Millionen kostenlose Bilder und Grafiken von Wikimedia oder Opencliparts direkt in der Anwendung.\nFertiges Material kann mit und ohne Lösungen angezeigt\, heruntergeladen und ausgedruckt werden. Als Grundlage und Inspiration stehen hunderte Materialien anderer Lehrkräfte bereit\, die Sie übernehmen und frei anpassen und verwenden können. \nSollten Sie noch keinen Zugang zu den Mediatheken Edupool und SESAM haben\, registrieren Sie sich kostenlos unter https://www.mzhd.de/online-zugaenge/ \nReferent: Peter Durst \n\n\n\n  \n\n\n\nAnmeldung zur Fortbildung\n\n\n \nIhr Nachname (Pflichtfeld)\n \n\n \nIhr Vorname (Pflichtfeld)\n \n\n \nIhre Schule (Pflichtfeld)\n \n\n \nIhr Schulort (Pflichtfeld)\n \n\n \nIhre E-Mail-Adresse (Pflichtfeld)\n \n\n \nIch wünsche aktuelle Infos mit dem Newsletter.\n \nIch habe die Datenschutzerklärung zur Kenntnis genommen. Ich stimme zu\, dass meine Angaben zur Kontaktaufnahme und für Rückfragen dauerhaft gespeichert werden.\nSie haben jederzeit das Recht Ihre Einwilligung zu widerrufen.
URL:https://www.mzhd.de/event/12-05-2026/
LOCATION:Medienzentrum Heidelberg\, Kurfürstenanlage 38-40\, Heidelberg\, 69115
CATEGORIES:Fortbildung
END:VEVENT
END:VCALENDAR