
BEGIN:VCALENDAR
VERSION:2.0
PRODID:-//Medienzentrum Heidelberg - ECPv6.15.20//NONSGML v1.0//EN
CALSCALE:GREGORIAN
METHOD:PUBLISH
X-ORIGINAL-URL:https://www.mzhd.de
X-WR-CALDESC:Veranstaltungen für Medienzentrum Heidelberg
REFRESH-INTERVAL;VALUE=DURATION:PT1H
X-Robots-Tag:noindex
X-PUBLISHED-TTL:PT1H
BEGIN:VTIMEZONE
TZID:Europe/Berlin
BEGIN:DAYLIGHT
TZOFFSETFROM:+0100
TZOFFSETTO:+0200
TZNAME:CEST
DTSTART:20240331T010000
END:DAYLIGHT
BEGIN:STANDARD
TZOFFSETFROM:+0200
TZOFFSETTO:+0100
TZNAME:CET
DTSTART:20241027T010000
END:STANDARD
BEGIN:DAYLIGHT
TZOFFSETFROM:+0100
TZOFFSETTO:+0200
TZNAME:CEST
DTSTART:20250330T010000
END:DAYLIGHT
BEGIN:STANDARD
TZOFFSETFROM:+0200
TZOFFSETTO:+0100
TZNAME:CET
DTSTART:20251026T010000
END:STANDARD
BEGIN:DAYLIGHT
TZOFFSETFROM:+0100
TZOFFSETTO:+0200
TZNAME:CEST
DTSTART:20260329T010000
END:DAYLIGHT
BEGIN:STANDARD
TZOFFSETFROM:+0200
TZOFFSETTO:+0100
TZNAME:CET
DTSTART:20261025T010000
END:STANDARD
END:VTIMEZONE
BEGIN:VEVENT
DTSTART;TZID=Europe/Berlin:20251202T143000
DTEND;TZID=Europe/Berlin:20251202T170000
DTSTAMP:20260419T173248
CREATED:20250714T171615Z
LAST-MODIFIED:20251014T085251Z
UID:9100-1764685800-1764694800@www.mzhd.de
SUMMARY:Künstliche Intelligenz: Ideen & Prompts für interaktive Lerneinheiten & Präsentationen mit KI
DESCRIPTION:In dieser praxisnahen Fortbildung lernen Sie\, wie Sie mit Hilfe von Künstlicher Intelligenz zwei zentrale Elemente für Schule und Unterricht gezielt erstellen und einsetzen: interaktive Lerneinheiten (für alle Fächer und Jahrgangsstufen) sowie ansprechende Präsentationen – und das ganz ohne Programmierkenntnisse! \nDurch die gezielte Anpassung der Prompts lassen sich die Aufgaben leicht differenzieren und an unterschiedliche Leistungsniveaus anpassen. Die erstellten Inhalte können beispielsweise über eine Taskcard gesammelt und den Lernenden zur Verfügung gestellt werden. \nInhalte: \n\nPrompts zur Erstellung browserbasierter Lernspiele mit HTML und JavaScript\n(inspiriert durch manuelflick.de)\nErstellung von KI-gestützten Präsentationen mit dem Tool gamma.app\nIdeen\, wie Sie KI kreativ und effizient in Ihren Fachunterricht integrieren\n\nZielgruppe:\nLehrkräfte aller Schularten\, die KI praxisorientiert und kreativ im Unterricht einsetzen möchten – auch ohne Programmierkenntnisse. Diese sind für die Teilnahme nicht erforderlich! \nHinweis:\nFalls Sie noch keinen Zugang zu Taskcards besitzen\, können Sie sich unter https://www.mzhd.de/online-zugaenge/ kostenlos registrieren. \nReferent: Peter Durst \n\n\n\n  \n\n\n\nAnmeldung zur Fortbildung\n\n\n \nIhr Nachname (Pflichtfeld)\n \n\n \nIhr Vorname (Pflichtfeld)\n \n\n \nIhre Schule (Pflichtfeld)\n \n\n \nIhr Schulort (Pflichtfeld)\n \n\n \nIhre E-Mail-Adresse (Pflichtfeld)\n \n\n \nIch wünsche aktuelle Infos mit dem Newsletter.\n \nIch habe die Datenschutzerklärung zur Kenntnis genommen. Ich stimme zu\, dass meine Angaben zur Kontaktaufnahme und für Rückfragen dauerhaft gespeichert werden.\nSie haben jederzeit das Recht Ihre Einwilligung zu widerrufen.
URL:https://www.mzhd.de/event/02-12-2025/
LOCATION:Medienzentrum Heidelberg\, Kurfürstenanlage 38-40\, Heidelberg\, 69115
CATEGORIES:Fortbildung
END:VEVENT
END:VCALENDAR